BEGIN:VCALENDAR
VERSION:2.0
PRODID:-//ChamberMaster//Event Calendar 2.0//EN
METHOD:PUBLISH
X-PUBLISHED-TTL:P3D
REFRESH-INTERVAL:P3D
CALSCALE:GREGORIAN
BEGIN:VEVENT
DTSTART:20260304T230000Z
DTEND:20260325T230000Z
X-MICROSOFT-CDO-ALLDAYEVENT:FALSE
SUMMARY:4-Week Golf Workshop
DESCRIPTION:Get ready for your best golf season ever with our 4-Week Golf Workshop at Downtown Gym & Training Center.\n\nThis program is designed specifically for golfers who want to improve mobility\, build strength\, and increase rotational power to create a stronger\, more efficient swing. Over four weeks\, you'll focus on improving hip and upper back mobility\, developing golf-specific core and lower body strength\, and learning how to generate power through better movement and control.\n\nWhether you're looking to add distance\, improve consistency\, or simply feel better on the course\, this workshop will help build the physical foundation your game needs.\n\nMobility. Strength. Rotational Power.\n\nTrain now. Swing stronger all season.\n\nCost: $99 for 4 weeks\n\nSpots are limited   sign up today!\n\nGOLF WORKSHOP | Downtown Gym
X-ALT-DESC;FMTTYPE=text/html:<p>Get ready for your best golf season ever with our <strong>4-Week Golf Workshop</strong> at Downtown Gym &amp\; Training Center.</p>\n\n<p>This program is designed specifically for golfers who want to improve mobility\, build strength\, and increase rotational power to create a stronger\, more efficient swing. Over four weeks\, you&rsquo\;ll focus on improving hip and upper back mobility\, developing golf-specific core and lower body strength\, and learning how to generate power through better movement and control.</p>\n\n<p>Whether you&rsquo\;re looking to add distance\, improve consistency\, or simply feel better on the course\, this workshop will help build the physical foundation your game needs.</p>\n\n<p><strong>Mobility. Strength. Rotational Power.</strong><br />\n<strong>Train now. Swing stronger all season.</strong></p>\n\n<p><strong>Cost: $99 for 4 weeks</strong><br />\nSpots are limited &mdash\; sign up today!<br />\n<a href="https://www.downtowngymlaconia.com/golf-workshop">GOLF WORKSHOP | Downtown Gym</a></p>\n
LOCATION:The Downtown Gym 171 Fair St Laconia\, Nh 03246
UID:e.839.57821
SEQUENCE:3
DTSTAMP:20260420T084251Z
URL:https://business.lakesregionchamber.org/events/details/4-week-golf-workshop-03-04-2026-57821
END:VEVENT

END:VCALENDAR
