BEGIN:VCALENDAR
VERSION:2.0
PRODID:-//ChamberMaster//Event Calendar 2.0//EN
METHOD:PUBLISH
X-PUBLISHED-TTL:P3D
REFRESH-INTERVAL:P3D
CALSCALE:GREGORIAN
BEGIN:VEVENT
DTSTART:20240406T180000Z
DTEND:20240406T210000Z
X-MICROSOFT-CDO-ALLDAYEVENT:FALSE
SUMMARY:Be Like a Bigfoot and Leave No Trace!
DESCRIPTION:As spring unfolds and the weather brightens up\, more and more people are getting outside just as the ground becomes mud and trails are at their most vulnerable. Come learn about or get a refresher on the Leave No Trace principles\, and enjoy some fun games and activities for all ages while developing your personal outdoor ethic using these seven simple guidelines. Activities will include a river-crossing game to learn about durable hiking surfaces\, identifying trees while blindfolded\, and making s'mores to learn about minimizing campsite impacts. What to Bring: Please bring hiking attire that can get muddy\, as trail conditions are highly variable this time of year. Bringing your own backpacks and camping equipment to practice preparing for a trip is optional but encouraged\; participants will be able to leave these in their vehicles after the activity and will not have to carry them for the whole program. See website for more information and to register.
X-ALT-DESC;FMTTYPE=text/html:As spring unfolds and the weather brightens up\, more and more people are getting outside&mdash\;just as the ground becomes mud and trails are at their most vulnerable. Come learn about or get a refresher on the Leave No Trace principles\, and enjoy some fun games and activities for all ages while developing your personal outdoor ethic using these seven simple guidelines. Activities will include a river-crossing game to learn about durable hiking surfaces\, identifying trees while blindfolded\, and making s&rsquo\;mores to learn about minimizing campsite impacts. What to Bring: Please bring hiking attire that can get muddy\, as trail conditions are highly variable this time of year. Bringing your own backpacks and camping equipment to practice preparing for a trip is optional but encouraged\; participants will be able to leave these in their vehicles after the activity and will not have to carry them for the whole program. See website for more information and to register.
LOCATION:Chamberlain-Reynolds Memorial Forest\, on College Rd. in Center Harbor.
UID:e.839.50072
SEQUENCE:3
DTSTAMP:20260421T083548Z
URL:https://business.lakesregionchamber.org/events/details/be-like-a-bigfoot-and-leave-no-trace-50072
END:VEVENT

END:VCALENDAR
