BEGIN:VCALENDAR
VERSION:2.0
PRODID:-//ChamberMaster//Event Calendar 2.0//EN
METHOD:PUBLISH
X-PUBLISHED-TTL:P3D
REFRESH-INTERVAL:P3D
CALSCALE:GREGORIAN
BEGIN:VEVENT
DTSTART:20260425T180000Z
DTEND:20260425T210000Z
X-MICROSOFT-CDO-ALLDAYEVENT:FALSE
SUMMARY:Beltane Wreath and Maypole Crafting Class
DESCRIPTION:Step into the bloom and celebrate the season of fire\, flowers\, and fresh beginnings with us! Join Katt at Silver Sage Cottage for a magickal hands-on class where we'll be crafting Beltane wreaths and maypole-inspired creations adorned with ribbon\, greenery\, and intention.\n\n\n\nBeltane is a time of fertility\, joy\, passion\, and possibility\, and this class is a beautiful way to weave those energies into something tangible for your home\, altar\, or sacred space. Create a floral wreath or a mini maypole-inspired piece infused with your own purpose and magick.\n\n\n\nCome make something beautiful\, meaningful\, and very much in season\, with a little community enchantment along the way. Space will be limited!  $20 deposit required to reserve your spot\; final price will be determined by what you decide to make (e.g. $45 for a wreath\, $35 for a pole\, and so on).  All materials provided.  Starts at two PM - come anytime\, leave when you want!\n\n\n\nDeposits to reserve your spot can be made in person at Silver Sage Cottage or online: \n\nhttps://silver-sage-cottage.myshopify.com/products/beltane-maypole-wreath-class-deposit-for-april-25th-at-2pm-in-tilton-nh-ssc330
X-ALT-DESC;FMTTYPE=text/html:Step into the bloom and celebrate the season of fire\, flowers\, and fresh beginnings with us! Join Katt at Silver Sage Cottage for a magickal hands-on class where we&rsquo\;ll be crafting Beltane wreaths and maypole-inspired creations adorned with ribbon\, greenery\, and intention.<br />\n<br />\nBeltane is a time of fertility\, joy\, passion\, and possibility\, and this class is a beautiful way to weave those energies into something tangible for your home\, altar\, or sacred space. Create a floral wreath or a mini maypole-inspired piece infused with your own purpose and magick.<br />\n<br />\nCome make something beautiful\, meaningful\, and very much in season\, with a little community enchantment along the way. Space will be limited!&nbsp\; $20 deposit required to reserve your spot\; final price will be determined by what you decide to make (e.g. $45 for a wreath\, $35 for a pole\, and so on).&nbsp\; All materials provided.&nbsp\; Starts at two PM - come anytime\, leave when you want!<br />\n<br />\nDeposits to reserve your spot can be made in person at Silver Sage Cottage or online:&nbsp\;<br />\nhttps://silver-sage-cottage.myshopify.com/products/beltane-maypole-wreath-class-deposit-for-april-25th-at-2pm-in-tilton-nh-ssc330
LOCATION:Silver Sage Cottage - 252 Main St\, Tilton\, NH (across from Onions)
UID:e.839.59745
SEQUENCE:3
DTSTAMP:20260421T083215Z
URL:https://business.lakesregionchamber.org/events/details/beltane-wreath-and-maypole-crafting-class-59745
END:VEVENT

END:VCALENDAR
