BEGIN:VCALENDAR
VERSION:2.0
PRODID:-//ChamberMaster//Event Calendar 2.0//EN
METHOD:PUBLISH
X-PUBLISHED-TTL:P3D
REFRESH-INTERVAL:P3D
CALSCALE:GREGORIAN
BEGIN:VEVENT
DTSTART:20260501T140000Z
DTEND:20260501T200000Z
X-MICROSOFT-CDO-ALLDAYEVENT:FALSE
SUMMARY:Free First Friday at Belknap Mill
DESCRIPTION:Spend your First Friday at the Belknap Mill with free museum admission all day. Whether you're visiting for the first time or returning\, it's a great chance to explore the Mill and connect with local history!
X-ALT-DESC;FMTTYPE=text/html:<p><span style="font-size:12px"><span style="font-family:arial\,helvetica\,sans-serif"><span style="color:rgb(72\, 71\, 71)">Spend your First Friday at the Belknap Mill with free museum admission all day. Whether you&rsquo\;re visiting for the first time or returning\, it&rsquo\;s a great chance to explore the Mill and connect with local history!</span></span></span><br />\n<br />\n<br />\n&nbsp\;</p>\n
LOCATION:Belknap Mill 25 Beacon Street E Laconia\, NH
UID:e.839.57657
SEQUENCE:3
DTSTAMP:20260425T153816Z
URL:https://business.lakesregionchamber.org/events/details/free-first-friday-at-belknap-mill-05-01-2026-57657
END:VEVENT

END:VCALENDAR
