BEGIN:VCALENDAR
VERSION:2.0
PRODID:-//ChamberMaster//Event Calendar 2.0//EN
METHOD:PUBLISH
X-PUBLISHED-TTL:P3D
REFRESH-INTERVAL:P3D
CALSCALE:GREGORIAN
BEGIN:VEVENT
DTSTART:20250204T210000Z
DTEND:20250204T230000Z
X-MICROSOFT-CDO-ALLDAYEVENT:FALSE
SUMMARY:Gathering of The Greats
DESCRIPTION:Gathering of the Greats was created to give a space for professionals to network in a laid back atmosphere and grow their business. Join us for light refreshments and great connections and don't forget your business cards! Chelsea Browne Level Up\, LLC Kelly Dyer\, New York Life\, Kidney's for Kindness Don McLelland\, Supreme Lending Lee Laughlin\, Granite VNA February Host
X-ALT-DESC;FMTTYPE=text/html:Gathering of the Greats was created to give a space for professionals to network in a laid back atmosphere and grow their business. Join us for light refreshments and great connections and don&#39\;t forget your business cards! Chelsea Browne Level Up\, LLC Kelly Dyer\, New York Life\, Kidney&#39\;s for Kindness Don McLelland\, Supreme Lending Lee Laughlin\, Granite VNA February Host
LOCATION:Opechee Community Room Granite VNA 780 North Main Street Laconia
UID:e.839.53481
SEQUENCE:3
DTSTAMP:20260426T002747Z
URL:https://business.lakesregionchamber.org/events/details/gathering-of-the-greats-02-04-2025-53481
END:VEVENT

END:VCALENDAR
