BEGIN:VCALENDAR
VERSION:2.0
PRODID:-//ChamberMaster//Event Calendar 2.0//EN
METHOD:PUBLISH
X-PUBLISHED-TTL:P3D
REFRESH-INTERVAL:P3D
CALSCALE:GREGORIAN
BEGIN:VEVENT
DTSTART:20250218T230000Z
DTEND:20250219T003000Z
X-MICROSOFT-CDO-ALLDAYEVENT:FALSE
SUMMARY:Laconia Kiwanis Club Meeting
DESCRIPTION:No Charge. A valuable use of your time. The meetings are open to the public. Guest Speaker this month is Laconia Police Department DARE Officer Bryan Moynihan. Questions? Call Betty Ballantyne at 603-630-5531 or email ballantyne84@gmail.com. All guests are welcome!
X-ALT-DESC;FMTTYPE=text/html:No Charge. A valuable use of your time. The meetings are open to the public. Guest Speaker this month is Laconia Police Department DARE Officer Bryan Moynihan. Questions? Call Betty Ballantyne at 603-630-5531 or email ballantyne84@gmail.com. All guests are welcome!
LOCATION:Laconia Police Department Community Room 126 New Salem Street Laconia\, NH 03246
UID:e.839.48772
SEQUENCE:3
DTSTAMP:20260424T223846Z
URL:https://business.lakesregionchamber.org/events/details/laconia-kiwanis-club-meeting-02-18-2025-48772
END:VEVENT

END:VCALENDAR
