BEGIN:VCALENDAR
VERSION:2.0
PRODID:-//ChamberMaster//Event Calendar 2.0//EN
METHOD:PUBLISH
X-PUBLISHED-TTL:P3D
REFRESH-INTERVAL:P3D
CALSCALE:GREGORIAN
BEGIN:VEVENT
DTSTART:20230329T120000Z
DTEND:20230329T140000Z
X-MICROSOFT-CDO-ALLDAYEVENT:FALSE
SUMMARY:Let's MEET for Coffee
DESCRIPTION:Let's MEET for Coffee \nAt the offices of Court Appointed Special Advocates (CASA) of New Hampshire\, and the Lakes Region Cancer Support Team (formerly known as Gilda?s Club of New Hampshire). The offices are located on the first floor of the Busiel Mill building at One Mill Plaza in Laconia (in-between the Belknap Mill and Laconia City Hall).\n \n\nLet?s MEET is about creating effective opportunities for networking to grow new customer relationships and community contacts.  Learn more about two local non-profits. CASA of NH provides a voice for children and youth who have experienced abuse and neglect by training and supporting volunteers to advocate on their behalf so they can thrive in safe\, permanent homes. The mission of Lakes Region Cancer Support Team is to ensure that people who are going through cancer and those who care for them get the social and emotional support they need. \n \n\nEnjoy coffee and light refreshments. There is no cost to attend. Registration is encouraged to assist us with planning.\n \n\nLet's MEET events are opportunities for networking\, making new connections\n\nand discovering local businesses.
X-ALT-DESC;FMTTYPE=text/html:<div style="text-align: center\;"><span style="font-size:20px\;"><span style="font-family:verdana\;"><strong>Let&#39\;s MEET for Coffee&nbsp\;</strong></span></span>\n<p dir="ltr" style="line-height:1.38\;margin-top:0pt\;margin-bottom:0pt\;"><span id="docs-internal-guid-25b96030-7fff-66a9-2e89-1b332ef86448"><span style="font-size: 16pt\; font-family: Verdana\; font-variant-numeric: normal\; font-variant-east-asian: normal\; vertical-align: baseline\; white-space: pre-wrap\;">At the offices of Court Appointed Special Advocates (CASA) of New Hampshire\, and the Lakes Region Cancer Support Team (formerly known as Gilda?s Club of New Hampshire). The offices are located on the first floor of the Busiel Mill building at One Mill Plaza in Laconia (in-between the Belknap Mill and Laconia City Hall).</span></span></p>\n&nbsp\;\n\n<p dir="ltr" style="line-height:1.38\;margin-top:0pt\;margin-bottom:0pt\;"><span id="docs-internal-guid-25b96030-7fff-66a9-2e89-1b332ef86448"><span style="font-size: 16pt\; font-family: Verdana\; font-variant-numeric: normal\; font-variant-east-asian: normal\; vertical-align: baseline\; white-space: pre-wrap\;">Let?s MEET is about creating effective opportunities for networking to grow new customer relationships and community contacts.&nbsp\; Learn more about two local non-profits. CASA of NH provides a voice </span></span><span id="docs-internal-guid-25b96030-7fff-66a9-2e89-1b332ef86448"><span style="font-size: 16pt\; font-family: Verdana\; font-variant-numeric: normal\; font-variant-east-asian: normal\; vertical-align: baseline\; white-space: pre-wrap\;">for children and youth who have experienced abuse and neglect by training and supporting volunteers to advocate on their behalf so they can thrive in safe\, permanent homes. The mission of Lakes Region </span></span><span id="docs-internal-guid-25b96030-7fff-66a9-2e89-1b332ef86448"><span style="font-size: 16pt\; font-family: Verdana\; font-variant-numeric: normal\; font-variant-east-asian: normal\; vertical-align: baseline\; white-space: pre-wrap\;">Cancer Support Team is to ensure that people who are going through cancer and those who care for them </span></span><span id="docs-internal-guid-25b96030-7fff-66a9-2e89-1b332ef86448"><span style="font-size: 16pt\; font-family: Verdana\; font-variant-numeric: normal\; font-variant-east-asian: normal\; vertical-align: baseline\; white-space: pre-wrap\;">get the social and emotional support they need.&nbsp\;</span></span></p>\n&nbsp\;\n\n<p dir="ltr" style="line-height:1.38\;margin-top:0pt\;margin-bottom:0pt\;"><span id="docs-internal-guid-25b96030-7fff-66a9-2e89-1b332ef86448"><span style="font-size: 16pt\; font-family: Verdana\; font-variant-numeric: normal\; font-variant-east-asian: normal\; vertical-align: baseline\; white-space: pre-wrap\;">Enjoy coffee and light refreshments. There is no cost to attend. Registration is encouraged to assist us with planning.</span></span></p>\n&nbsp\;\n\n<p dir="ltr" style="line-height:1.38\;margin-top:0pt\;margin-bottom:0pt\;"><span id="docs-internal-guid-25b96030-7fff-66a9-2e89-1b332ef86448"><span style="font-size: 16pt\; font-family: Verdana\; font-variant-numeric: normal\; font-variant-east-asian: normal\; vertical-align: baseline\; white-space: pre-wrap\;">Let&#39\;s MEET events are opportunities for networking\, making new connections</span></span></p>\n\n<p dir="ltr" style="line-height:1.38\;margin-top:0pt\;margin-bottom:0pt\;"><span id="docs-internal-guid-25b96030-7fff-66a9-2e89-1b332ef86448"><span style="font-size: 16pt\; font-family: Verdana\; font-variant-numeric: normal\; font-variant-east-asian: normal\; vertical-align: baseline\; white-space: pre-wrap\;">and discovering local businesses.</span></span></p>\n\n<div>&nbsp\;</div>\n</div>\n
LOCATION:The Busiel Mill
UID:e.839.45485
SEQUENCE:3
DTSTAMP:20260424T012248Z
URL:https://business.lakesregionchamber.org/events/details/let-s-meet-for-coffee-45485
END:VEVENT

END:VCALENDAR
