BEGIN:VCALENDAR
VERSION:2.0
PRODID:-//ChamberMaster//Event Calendar 2.0//EN
METHOD:PUBLISH
X-PUBLISHED-TTL:P3D
REFRESH-INTERVAL:P3D
CALSCALE:GREGORIAN
BEGIN:VEVENT
DTSTART:20260430T220000Z
DTEND:20260430T233000Z
X-MICROSOFT-CDO-ALLDAYEVENT:FALSE
SUMMARY:Lyme Disease Ecology and Patient Health
DESCRIPTION:How do black-legged ticks manage to survive and persist through New Hampshire's winters\, and what are the resulting implications for public health? Join Dr. Lynn Durand\, MD\, and Kathie Fife\, Lyme ecologist and patient advocate\, for a discussion about Lyme and associated diseases. Kathie will share her knowledge and experience as a patient\, natural resource specialist\, and her legislative work advocating for better patient care and physician education. Dr. Durand will talk about the challenges of diagnosis and treatment of chronic Lyme disease and how folks can advocate for appropriate treatment.\n\n\n\n**This event was originally scheduled for 4/9 and rescheduled to 4/30.
X-ALT-DESC;FMTTYPE=text/html:How do black-legged ticks manage to survive and persist through New Hampshire&#39\;s winters\, and what are the resulting implications for public health? Join Dr. Lynn Durand\, MD\, and Kathie Fife\, Lyme ecologist and patient advocate\, for a discussion about Lyme and associated diseases. Kathie will share her knowledge and experience as a patient\, natural resource specialist\, and her legislative work advocating for better patient care and physician education. Dr. Durand will talk about the challenges of diagnosis and treatment of chronic Lyme disease and how folks can advocate for appropriate treatment.<br />\n<br />\n<em>**This event was originally scheduled for 4/9 and rescheduled to 4/30.</em>
LOCATION:Laconia Public Library
UID:e.839.57851
SEQUENCE:3
DTSTAMP:20260425T135547Z
URL:https://business.lakesregionchamber.org/events/details/lyme-disease-ecology-and-patient-health-57851
END:VEVENT

END:VCALENDAR
