BEGIN:VCALENDAR
VERSION:2.0
PRODID:-//ChamberMaster//Event Calendar 2.0//EN
METHOD:PUBLISH
X-PUBLISHED-TTL:P3D
REFRESH-INTERVAL:P3D
CALSCALE:GREGORIAN
BEGIN:VEVENT
DTSTART:20260509T133000Z
DTEND:20260509T210000Z
X-MICROSOFT-CDO-ALLDAYEVENT:FALSE
SUMMARY:New Hampshire Day
DESCRIPTION:Calling all New Hampshire residents! Squam Lakes Natural Science Center is pleased to host New Hampshire Day on Saturday\, May 9\, from 9:30 a.m. to 5:00 p.m. New Hampshire residents receive special $10 trail admission (regular rates: $30/adults\, $28/seniors\, $24/youth)\, offering an accessible opportunity to explore the natural world close to home.\n\n \n\nNew Hampshire Day is a way for the Science Center to give back to the community\, helping Granite Staters connect with native wildlife\, learn about local ecology\, and create lasting memories with family and friends. This special day is made possible through the generous support of Dead River Company\, Path Vacations\, and the New Hampshire Electric Cooperative Foundation (NHEC). In addition to its sponsorship\, NHEC is covering admission fees for its members. NHEC members must show a copy of their electric bill at admissions to receive free entry.\n\n \n\nAll New Hampshire Day tickets are for one-hour entry blocks and must be purchased in advance. Bring proof of NH residency and plan for a fun-filled experience\, including Up Close to Animals presentations at 11:00 a.m.\, 1:00 p.m.\, and 3:00 p.m. Last trail admission is during the 2:30 3:30 p.m. window.\n\n \n\nDon't miss this wonderful opportunity to meet live animals\, connect with nature\, and be a part of a community that cares about conservation and education. For more information on Squam Lakes Natural Science Center or to reserve NH Day tickets\, visit www.nhnature.org.
X-ALT-DESC;FMTTYPE=text/html:<div>Calling all New Hampshire residents! Squam Lakes Natural Science Center is pleased to host New Hampshire Day on Saturday\, May 9\, from 9:30 a.m. to 5:00 p.m. New Hampshire residents receive special $10 trail admission (regular rates: $30/adults\, $28/seniors\, $24/youth)\, offering an accessible opportunity to explore the natural world close to home.<br />\n&nbsp\;</div>\n\n<div>New Hampshire Day is a way for the Science Center to give back to the community\, helping Granite Staters connect with native wildlife\, learn about local ecology\, and create lasting memories with family and friends. This special day is made possible through the generous support of Dead River Company\, Path Vacations\, and the New Hampshire Electric Cooperative Foundation (NHEC). In addition to its sponsorship\, NHEC is covering admission fees for its members. NHEC members must show a copy of their electric bill at admissions to receive free entry.<br />\n&nbsp\;</div>\n\n<div>All New Hampshire Day tickets are for one-hour entry blocks and must be purchased in advance. Bring proof of NH residency and plan for a fun-filled experience\, including Up Close to Animals presentations at 11:00 a.m.\, 1:00 p.m.\, and 3:00 p.m. Last trail admission is during the 2:30&ndash\;3:30 p.m. window.<br />\n&nbsp\;</div>\n\n<div>Don&rsquo\;t miss this wonderful opportunity to meet live animals\, connect with nature\, and be a part of a community that cares about conservation and education. For more information on Squam Lakes Natural Science Center or to reserve NH Day tickets\, visit&nbsp\;<a class="x1i10hfl xjbqb8w x1ejq31n x18oe1m7 x1sy0etr xstzfhl x972fbf x10w94by x1qhh985 x14e42zd x9f619 x1ypdohk xt0psk2 x3ct3a4 xdj266r x14z9mp xat24cr x1lziwak xexx8yu xyri2b x18d9i69 x1c1uobl x16tdsg8 x1hl2dhg xggy1nq x1a2a7pz xkrqix3 x1sur9pj x1fey0fg x1s688f" href="https://www.nhnature.org/?fbclid=IwZXh0bgNhZW0CMTAAYnJpZBExNVZzejhQcGRXbEJUSUN5MXNydGMGYXBwX2lkEDIyMjAzOTE3ODgyMDA4OTIAAR4V7JfiNMub5_AXBr6ryPf1GE6tlLYqFQxcGn721WNCNZQN_MGyMrMw2tt_Fg_aem_My7qOEd1baXb8Py9fSnIBg" rel="nofollow noreferrer" style="color: rgb(0\, 100\, 209)\; cursor: pointer\; text-decoration-line: none\; outline: none\; border-inline-width: 0px\; margin-inline: 0px\; text-align: inherit\; border-inline-style: none\; padding-inline: 0px\; -webkit-tap-highlight-color: transparent\; font-weight: 600\; list-style-type: none\; box-sizing: border-box\; touch-action: manipulation\; background-color: transparent\; display: inline\; padding-bottom: 0px\; border-top-style: none\; border-bottom-width: 0px\; border-bottom-style: none\; border-top-width: 0px\; margin-bottom: 0px\; margin-top: 0px\; padding-top: 0px\; font-family: inherit\;" tabindex="0" target="_blank">www.nhnature.org.</a></div>\n
LOCATION:Squam Lakes Natural Science Center 23 Science Center Road Holderness\, NH 03245
UID:e.839.59753
SEQUENCE:3
DTSTAMP:20260422T083533Z
URL:https://business.lakesregionchamber.org/events/details/new-hampshire-day-05-09-2026-59753
END:VEVENT

END:VCALENDAR
