BEGIN:VCALENDAR
VERSION:2.0
PRODID:-//ChamberMaster//Event Calendar 2.0//EN
METHOD:PUBLISH
X-PUBLISHED-TTL:P3D
REFRESH-INTERVAL:P3D
CALSCALE:GREGORIAN
BEGIN:VEVENT
DTSTART:20260501T133000Z
DTEND:20260501T210000Z
X-MICROSOFT-CDO-ALLDAYEVENT:FALSE
SUMMARY:Opening Day at Squam Lakes Natural Science Center
DESCRIPTION:Squam Lakes Natural Science Center kicks off its 60th anniversary season on Friday\, May 1\, marking six decades of connecting people with the natural world. The 2026 season invites visitors to explore the Live Animal Exhibit Trail\, where a new series of interpretive panels celebrates the Science Center's 60-year history\, highlighting the animals\, staff\, volunteers\, and events that have shaped its growth. This milestone year will also welcome the Science Center's two millionth visitor since the trail system first opened on July 1\, 1970.\n\n \n\nTrail rates for 2026 are $30 for adults\; $28 for seniors (age 65+)\; $24 for youth (ages 3-15)\; free for children 2 and Science Center members.
X-ALT-DESC;FMTTYPE=text/html:<div>Squam Lakes Natural Science Center kicks off its 60th anniversary season on Friday\, May 1\, marking six decades of connecting people with the natural world. The 2026 season invites visitors to explore the Live Animal Exhibit Trail\, where a new series of interpretive panels celebrates the Science Center&rsquo\;s 60-year history\, highlighting the animals\, staff\, volunteers\, and events that have shaped its growth. This milestone year will also welcome the Science Center&rsquo\;s two millionth visitor since the trail system first opened on July 1\, 1970.<br />\n&nbsp\;</div>\n\n<div>Trail rates for 2026 are $30 for adults\; $28 for seniors (age 65+)\; $24 for youth (ages 3-15)\; free for children 2 and Science Center members.</div>\n
LOCATION:Squam Lakes Natural Science Center 23 Science Center Road Holderness\, NH 03245
UID:e.839.59752
SEQUENCE:3
DTSTAMP:20260422T084517Z
URL:https://business.lakesregionchamber.org/events/details/opening-day-at-squam-lakes-natural-science-center-59752
END:VEVENT

END:VCALENDAR
