BEGIN:VCALENDAR
VERSION:2.0
PRODID:-//ChamberMaster//Event Calendar 2.0//EN
METHOD:PUBLISH
X-PUBLISHED-TTL:P3D
REFRESH-INTERVAL:P3D
CALSCALE:GREGORIAN
BEGIN:VEVENT
DTSTART:20260430T140000Z
DTEND:20260430T153000Z
X-MICROSOFT-CDO-ALLDAYEVENT:FALSE
SUMMARY:Puzzle Races!
DESCRIPTION:Compete as a team (of up to 4 people) or individually and see who can put together a 300-piece jigsaw puzzle the fastest. The first to finish wins a prize! This event is intended for hobby puzzle enthusiasts\, not professionals.
X-ALT-DESC;FMTTYPE=text/html:Compete as a team (of up to 4 people) or individually and see who can put together a 300-piece jigsaw puzzle the fastest. The first to finish wins a prize! This event is intended for hobby puzzle enthusiasts\, not professionals.
LOCATION:Laconia Public Library
UID:e.839.57855
SEQUENCE:3
DTSTAMP:20260425T154732Z
URL:https://business.lakesregionchamber.org/events/details/puzzle-races-04-30-2026-57855
END:VEVENT

END:VCALENDAR
