BEGIN:VCALENDAR
VERSION:2.0
PRODID:-//ChamberMaster//Event Calendar 2.0//EN
METHOD:PUBLISH
X-PUBLISHED-TTL:P3D
REFRESH-INTERVAL:P3D
CALSCALE:GREGORIAN
BEGIN:VEVENT
DTSTART:20250604T173000Z
DTEND:20250604T190000Z
X-MICROSOFT-CDO-ALLDAYEVENT:FALSE
SUMMARY:Ribbon Cutting -T-Bones
DESCRIPTION:T-BONES Great American Eatery in Laconia\, NH is pleased to announce the opening of their new "WinniDeck" which adds 100 outdoor dining seats on a brand new deck. The new deck combined with their existing outdoor dining area will seat close to 150\, making it one of the largest outdoor dining areas in the Lakes Region.\n\n \n\nWinniDeck Ribbon Cutting   Wednesday   June 4th   1:30pm\n\n \n\nThe new outdoor dining area was to help satisfy the demand for outdoor dining overlooking the beautiful Paugus Bay of Lake Winnipesaukee. Chef Nicole Barreira reports\, "People love our made from scratch menu and look forward to enjoying it outdoors with a view of the lake and our impressive sunsets! Our summer favorites\; fresh lobster and fried seafood are back!"\n\n \n\nAlong with this new outdoor dining feature\, T-BONES has launched a great new food and drink menu for the summer months and live music 7 days a week. There is no cover charge for the music scheduled seven days a week from 6pm until 9pm and on Saturday and Sunday also from 1pm until 4pm.\n\n \n\nT-BONES Great American Eatery is located at 1182 Union Avenue\, Laconia\, NH\, for more info\, visit: www.TBONES.com or call (603) 528-7800.
X-ALT-DESC;FMTTYPE=text/html:<p style="color: rgb(0\, 0\, 0)\; font-family: &quot\;Times New Roman&quot\;\; font-size: medium\;">T-BONES Great American Eatery in Laconia\, NH is pleased to announce the opening of their new &ldquo\;WinniDeck&rdquo\; which adds 100 outdoor dining seats on a brand new deck. The new deck combined with their existing outdoor dining area will seat close to 150\, making it one of the largest outdoor dining areas in the Lakes Region.</p>\n\n<p style="color: rgb(0\, 0\, 0)\; font-family: &quot\;Times New Roman&quot\;\; font-size: medium\;">&nbsp\;</p>\n\n<p style="color: rgb(0\, 0\, 0)\; font-family: &quot\;Times New Roman&quot\;\; font-size: medium\;">WinniDeck Ribbon Cutting &ndash\; Wednesday &ndash\; June 4th &ndash\; 1:30pm</p>\n\n<p style="color: rgb(0\, 0\, 0)\; font-family: &quot\;Times New Roman&quot\;\; font-size: medium\;">&nbsp\;</p>\n\n<p style="color: rgb(0\, 0\, 0)\; font-family: &quot\;Times New Roman&quot\;\; font-size: medium\;">The new outdoor dining area was to help satisfy the demand for outdoor dining overlooking the beautiful Paugus Bay of Lake Winnipesaukee. Chef Nicole Barreira reports\, &ldquo\;People love our made from scratch menu and look forward to enjoying it outdoors with a view of the lake and our impressive sunsets! Our summer favorites\; fresh lobster and fried seafood are back!&rdquo\;</p>\n\n<p style="color: rgb(0\, 0\, 0)\; font-family: &quot\;Times New Roman&quot\;\; font-size: medium\;">&nbsp\;</p>\n\n<p style="color: rgb(0\, 0\, 0)\; font-family: &quot\;Times New Roman&quot\;\; font-size: medium\;">Along with this new outdoor dining feature\, T-BONES has launched a great new food and drink menu for the summer months and live music 7 days a week. There is no cover charge for the music scheduled seven days a week from 6pm until 9pm and on Saturday and Sunday also from 1pm until 4pm.</p>\n\n<p style="color: rgb(0\, 0\, 0)\; font-family: &quot\;Times New Roman&quot\;\; font-size: medium\;">&nbsp\;</p>\n\n<p style="color: rgb(0\, 0\, 0)\; font-family: &quot\;Times New Roman&quot\;\; font-size: medium\;">T-BONES Great American Eatery is located at 1182 Union Avenue\, Laconia\, NH\, for more info\, visit: www.TBONES.com or call (603) 528-7800.</p>\n
LOCATION:T-BONES Great American Eatery is located at 1182 Union Avenue\, Laconia\, NH
UID:e.839.54365
SEQUENCE:3
DTSTAMP:20260420T084451Z
URL:https://business.lakesregionchamber.org/events/details/ribbon-cutting-t-bones-54365
END:VEVENT

END:VCALENDAR
