BEGIN:VCALENDAR
VERSION:2.0
PRODID:-//ChamberMaster//Event Calendar 2.0//EN
METHOD:PUBLISH
X-PUBLISHED-TTL:P3D
REFRESH-INTERVAL:P3D
CALSCALE:GREGORIAN
BEGIN:VEVENT
DTSTART:20250718T140000Z
DTEND:20250718T153000Z
X-MICROSOFT-CDO-ALLDAYEVENT:FALSE
SUMMARY:Storywalk at Curry Place Gazebo in Holderness
DESCRIPTION:Stroll along the channel as you read \n\nMr. McGinty's Monarchs\n\nby Linda Vander Heyden\, posted one page at a time along the trail...\n\n\n\nChildren can participate in a craft and enjoy a snack during the \n\nKick Off Reception!\n\n15TH ANNUAL STORYWALK  AND MONARCH CITIZEN SCIENCE PROJECT KICK OFF IN HOLDERNESS\n\n \n\nHolderness\, NH   The 15th annual StoryWalk \, a cherished collaboration between Squam Lakes Natural Science Center\, Holderness Recreation Department\, and Holderness Free Library\, with support from Meredith Village Savings Bank\, is set to begin soon. The kickoff event will take place on June 27 at 10:00 a.m. at the Curry Place Gazebo\, located behind the Holderness Post Office.\n\n \n\nThis year's featured story is Mr. McGinty's Monarchs by Linda Vander Heyden\, inviting families to enjoy reading and nature while walking the StoryWalk  path.\n\n \n\nIn conjunction with StoryWalk \, the Science Center\, supported by Squam Lakes Conservation Society\, will launch a community citizen science project to monitor monarch butterfly larvae on milkweed. Starting June 30\, interested participants are invited to join weekly monitoring sessions every Monday at 9:30 a.m. at the Pemi-Oxbow Preserve that straddles Holderness\, Plymouth & Ashland.\n\n \n\nBy tracking the presence of monarch eggs and larvae\, volunteers will contribute valuable data to the Monarch Larva Monitoring Project\, a nationwide initiative to better understand monarch breeding\, distribution\, and population health. Community involvement is vital to these efforts\, helping scientists and conservationists protect monarchs and their habitats for future generations.\n\n \n\nVolunteers of all ages are welcome! Meet in the back left corner of the Plymouth State University Ice Arena parking lot at 9:30 on Monday mornings through the end of August. Contact Heidi Emmons for more information at heidi.emmons@nhnature.org.\n\n \n\nPlease note:\n\n  PLEASE WEAR LONG PANTS\, SOCKS\, and CLOSED-TOED SHOES. There is a LOT of poison ivy on the walk out\, as well as a healthy population of wood ticks.\n\n  The walk to the field that we are monitoring is about   mile long\, relatively flat\, with easy footing.\n\n \n\nFor more information about how to get involved in the Monarch Larva Monitoring Project\, visit https://mlmp.org.\n\n \n\n \n\nAbout Squam Lakes Natural Science Center\n\nThe mission of Squam Lakes Natural Science Center is to advance understanding of ecology by exploring New Hampshire's natural world. Through spectacular live animal exhibits\, natural science education programs\, guided Squam Lake Cruises\, public gardens\, and a nature-based Montessori early learning center\, the Science Center has educated audiences of all ages since 1966 about the importance of our natural world. Squam Lakes Natural Science Center is Sensory Inclusive Certified by KultureCity. The Science Center is located on Route 113 in Holderness\, an easy drive from exit 24 off I-93\, and public trails are open daily from May 1 through November 1 with programming throughout the year. For further information about the Science Center\, call 603-968-7194 or visit www.nhnature.org.
X-ALT-DESC;FMTTYPE=text/html:<p>Stroll along the channel as you read&nbsp\;</p>\n\n<p>Mr. McGinty&#39\;s Monarchs<br />\nby Linda Vander Heyden\, posted one page at a time along the trail...<br />\n<br />\nChildren can participate in a craft and enjoy a snack during the&nbsp\;<br />\nKick Off Reception!</p>\n\n<p style="color: rgb(0\, 0\, 0)\; font-family: &quot\;Times New Roman&quot\;\; font-size: medium\;">15TH ANNUAL STORYWALK&reg\; AND MONARCH CITIZEN SCIENCE PROJECT KICK OFF IN HOLDERNESS</p>\n\n<p style="color: rgb(0\, 0\, 0)\; font-family: &quot\;Times New Roman&quot\;\; font-size: medium\;">&nbsp\;</p>\n\n<p style="color: rgb(0\, 0\, 0)\; font-family: &quot\;Times New Roman&quot\;\; font-size: medium\;">Holderness\, NH &mdash\; The 15th annual StoryWalk&reg\;\, a cherished collaboration between Squam Lakes Natural Science Center\, Holderness Recreation Department\, and Holderness Free Library\, with support from Meredith Village Savings Bank\, is set to begin soon. The kickoff event will take place on June 27 at 10:00 a.m. at the Curry Place Gazebo\, located behind the Holderness Post Office.</p>\n\n<p style="color: rgb(0\, 0\, 0)\; font-family: &quot\;Times New Roman&quot\;\; font-size: medium\;">&nbsp\;</p>\n\n<p style="color: rgb(0\, 0\, 0)\; font-family: &quot\;Times New Roman&quot\;\; font-size: medium\;">This year&rsquo\;s featured story is Mr. McGinty&rsquo\;s Monarchs by Linda Vander Heyden\, inviting families to enjoy reading and nature while walking the StoryWalk&reg\; path.</p>\n\n<p style="color: rgb(0\, 0\, 0)\; font-family: &quot\;Times New Roman&quot\;\; font-size: medium\;">&nbsp\;</p>\n\n<p style="color: rgb(0\, 0\, 0)\; font-family: &quot\;Times New Roman&quot\;\; font-size: medium\;">In conjunction with StoryWalk&reg\;\, the Science Center\, supported by Squam Lakes Conservation Society\, will launch a community citizen science project to monitor monarch butterfly larvae on milkweed. Starting June 30\, interested participants are invited to join weekly monitoring sessions every Monday at 9:30 a.m. at the Pemi-Oxbow Preserve that straddles Holderness\, Plymouth &amp\; Ashland.</p>\n\n<p style="color: rgb(0\, 0\, 0)\; font-family: &quot\;Times New Roman&quot\;\; font-size: medium\;">&nbsp\;</p>\n\n<p style="color: rgb(0\, 0\, 0)\; font-family: &quot\;Times New Roman&quot\;\; font-size: medium\;">By tracking the presence of monarch eggs and larvae\, volunteers will contribute valuable data to the Monarch Larva Monitoring Project\, a nationwide initiative to better understand monarch breeding\, distribution\, and population health. Community involvement is vital to these efforts\, helping scientists and conservationists protect monarchs and their habitats for future generations.</p>\n\n<p style="color: rgb(0\, 0\, 0)\; font-family: &quot\;Times New Roman&quot\;\; font-size: medium\;">&nbsp\;</p>\n\n<p style="color: rgb(0\, 0\, 0)\; font-family: &quot\;Times New Roman&quot\;\; font-size: medium\;">Volunteers of all ages are welcome! Meet in the back left corner of the Plymouth State University Ice Arena parking lot at 9:30 on Monday mornings through the end of August. Contact Heidi Emmons for more information at heidi.emmons@nhnature.org.</p>\n\n<p style="color: rgb(0\, 0\, 0)\; font-family: &quot\;Times New Roman&quot\;\; font-size: medium\;">&nbsp\;</p>\n\n<p style="color: rgb(0\, 0\, 0)\; font-family: &quot\;Times New Roman&quot\;\; font-size: medium\;">Please note:</p>\n\n<p style="color: rgb(0\, 0\, 0)\; font-family: &quot\;Times New Roman&quot\;\; font-size: medium\;">&middot\; PLEASE WEAR LONG PANTS\, SOCKS\, and CLOSED-TOED SHOES. There is a LOT of poison ivy on the walk out\, as well as a healthy population of wood ticks.</p>\n\n<p style="color: rgb(0\, 0\, 0)\; font-family: &quot\;Times New Roman&quot\;\; font-size: medium\;">&middot\; The walk to the field that we are monitoring is about &frac12\; mile long\, relatively flat\, with easy footing.</p>\n\n<p style="color: rgb(0\, 0\, 0)\; font-family: &quot\;Times New Roman&quot\;\; font-size: medium\;">&nbsp\;</p>\n\n<p style="color: rgb(0\, 0\, 0)\; font-family: &quot\;Times New Roman&quot\;\; font-size: medium\;">For more information about how to get involved in the Monarch Larva Monitoring Project\, visit https://mlmp.org.</p>\n\n<p style="color: rgb(0\, 0\, 0)\; font-family: &quot\;Times New Roman&quot\;\; font-size: medium\;">&nbsp\;</p>\n\n<p style="color: rgb(0\, 0\, 0)\; font-family: &quot\;Times New Roman&quot\;\; font-size: medium\;">&nbsp\;</p>\n\n<p style="color: rgb(0\, 0\, 0)\; font-family: &quot\;Times New Roman&quot\;\; font-size: medium\;">About Squam Lakes Natural Science Center</p>\n\n<p style="color: rgb(0\, 0\, 0)\; font-family: &quot\;Times New Roman&quot\;\; font-size: medium\;">The mission of Squam Lakes Natural Science Center is to advance understanding of ecology by exploring New Hampshire&rsquo\;s natural world. Through spectacular live animal exhibits\, natural science education programs\, guided Squam Lake Cruises\, public gardens\, and a nature-based Montessori early learning center\, the Science Center has educated audiences of all ages since 1966 about the importance of our natural world. Squam Lakes Natural Science Center is Sensory Inclusive Certified by KultureCity. The Science Center is located on Route 113 in Holderness\, an easy drive from exit 24 off I-93\, and public trails are open daily from May 1 through November 1 with programming throughout the year. For further information about the Science Center\, call 603-968-7194 or visit www.nhnature.org.</p>\n
LOCATION:StoryWalk surround the Holderness Town Gazebo behind the Post office at Curry Place.
UID:e.839.54752
SEQUENCE:3
DTSTAMP:20260420T083814Z
URL:https://business.lakesregionchamber.org/events/details/storywalk-at-curry-place-gazebo-in-holderness-07-18-2025-54752
END:VEVENT

END:VCALENDAR
