BEGIN:VCALENDAR
VERSION:2.0
PRODID:-//ChamberMaster//Event Calendar 2.0//EN
METHOD:PUBLISH
X-PUBLISHED-TTL:P3D
REFRESH-INTERVAL:P3D
CALSCALE:GREGORIAN
BEGIN:VEVENT
DTSTART:20250502T110000Z
DTEND:20250502T150000Z
X-MICROSOFT-CDO-ALLDAYEVENT:FALSE
SUMMARY:The Conniption Fits
DESCRIPTION:Dance the night away to everyone's favorite dance band\, the Conniption Fits!
X-ALT-DESC;FMTTYPE=text/html:Dance the night away to everyone&#39\;s favorite dance band\, the Conniption Fits!
LOCATION:Newfound Lake Inn 1030 Mayhew Turnpike Bridgewater\, NH 03222
UID:e.839.53838
SEQUENCE:3
DTSTAMP:20260420T082945Z
URL:https://business.lakesregionchamber.org/events/details/the-conniption-fits-53838
END:VEVENT

END:VCALENDAR
