BEGIN:VCALENDAR
VERSION:2.0
PRODID:-//ChamberMaster//Event Calendar 2.0//EN
METHOD:PUBLISH
X-PUBLISHED-TTL:P3D
REFRESH-INTERVAL:P3D
CALSCALE:GREGORIAN
BEGIN:VEVENT
DTSTART:20240720T220000Z
DTEND:20240721T003000Z
X-MICROSOFT-CDO-ALLDAYEVENT:FALSE
SUMMARY:The Winnipesaukee Summer Comedy Series starring Brian Glowacki & Friends
DESCRIPTION:The LAUGHS are coming in HOT to Gilford\, Lake Winnipesaukee!\n\nSaturday July 20th @ Beans & Greens NOTCH BIERGARTEN in Gilford\, NH. It's The Winnipesaukee Summer Comedy Series starring Brian Glowacki & Friends.
X-ALT-DESC;FMTTYPE=text/html:<span style="color: rgb(28\, 48\, 47)\; font-family: &quot\;Helvetica Neue&quot\;\, Helvetica\, Arial\, sans-serif\; font-size: 14px\; background-color: rgb(255\, 255\, 255)\;">The LAUGHS are coming in HOT to Gilford\, Lake Winnipesaukee!</span><br style="box-sizing: border-box\; margin-top: 0px\; color: rgb(28\, 48\, 47)\; font-family: &quot\;Helvetica Neue&quot\;\, Helvetica\, Arial\, sans-serif\; font-size: 14px\; background-color: rgb(255\, 255\, 255)\;" />\n<span style="color: rgb(28\, 48\, 47)\; font-family: &quot\;Helvetica Neue&quot\;\, Helvetica\, Arial\, sans-serif\; font-size: 14px\; background-color: rgb(255\, 255\, 255)\;">Saturday July 20th @ Beans &amp\; Greens NOTCH BIERGARTEN in Gilford\, NH. It&#39\;s The Winnipesaukee Summer Comedy Series starring Brian Glowacki &amp\; Friends.&nbsp\;</span>
LOCATION:Beans & Greens Farm 245 Intervale Rd. Gilford\, NH 03249
UID:e.839.50129
SEQUENCE:3
DTSTAMP:20260424T053001Z
URL:https://business.lakesregionchamber.org/events/details/the-winnipesaukee-summer-comedy-series-starring-brian-glowacki-friends-50129
END:VEVENT

END:VCALENDAR
