BEGIN:VCALENDAR
VERSION:2.0
PRODID:-//ChamberMaster//Event Calendar 2.0//EN
METHOD:PUBLISH
X-PUBLISHED-TTL:P3D
REFRESH-INTERVAL:P3D
CALSCALE:GREGORIAN
BEGIN:VEVENT
DTSTART:20260427T140000Z
DTEND:20260427T150000Z
X-MICROSOFT-CDO-ALLDAYEVENT:FALSE
SUMMARY:Vacation Fun: LPL Bugs Out!
DESCRIPTION:Best for ages 4-12. Do you know a kid who is crazy for insects? Join us for a special school vacation program where we focus on our six-legged friends! Decorate your own bug jar\, explore the sensory table\, observe preserved specimens\, and more! Best for bug-loving kids and their grown-up.
X-ALT-DESC;FMTTYPE=text/html:Best for ages 4-12. Do you know a kid who is crazy for insects? Join us for a special school vacation program where we focus on our six-legged friends! Decorate your own bug jar\, explore the sensory table\, observe preserved specimens\, and more! Best for bug-loving kids and their grown-up.
LOCATION:Laconia Public Library
UID:e.839.57853
SEQUENCE:3
DTSTAMP:20260423T213002Z
URL:https://business.lakesregionchamber.org/events/details/vacation-fun-lpl-bugs-out-57853
END:VEVENT

END:VCALENDAR
