BEGIN:VCALENDAR
VERSION:2.0
PRODID:-//ChamberMaster//Event Calendar 2.0//EN
METHOD:PUBLISH
X-PUBLISHED-TTL:P3D
REFRESH-INTERVAL:P3D
CALSCALE:GREGORIAN
BEGIN:VEVENT
DTSTART:20260425T190000Z
DTEND:20260425T203000Z
X-MICROSOFT-CDO-ALLDAYEVENT:FALSE
SUMMARY:Wine Tasting in the Wine Cellar
DESCRIPTION:Join us in our Wine Cellar\, every Friday and Saturday from 3 4:30 pm for an intimate tasting of 4 curated wines paired with a charcuterie board featuring artisan cheese\, olives\, figs\, and freshly baked bread. Surrounded by candlelight and conversation\, it's a cozy and refined escape for savoring the season's simple pleasures.
X-ALT-DESC;FMTTYPE=text/html:Join us in our Wine Cellar\, every Friday and Saturday from 3&ndash\;4:30 pm for an intimate tasting of 4 curated wines paired with a charcuterie board featuring artisan cheese\, olives\, figs\, and freshly baked bread. Surrounded by candlelight and conversation\, it&rsquo\;s a cozy and refined escape for savoring the season&rsquo\;s simple pleasures.
LOCATION:The Wine Cellar
UID:e.839.58996
SEQUENCE:3
DTSTAMP:20260423T212324Z
URL:https://business.lakesregionchamber.org/events/details/wine-tasting-in-the-wine-cellar-04-25-2026-58996
END:VEVENT

END:VCALENDAR
