BEGIN:VCALENDAR
VERSION:2.0
PRODID:-//ChamberMaster//Event Calendar 2.0//EN
METHOD:PUBLISH
X-PUBLISHED-TTL:P3D
REFRESH-INTERVAL:P3D
CALSCALE:GREGORIAN
BEGIN:VEVENT
DTSTART:20260429T193000Z
DTEND:20260430T010000Z
X-MICROSOFT-CDO-ALLDAYEVENT:FALSE
SUMMARY:Wine Wednesdays
DESCRIPTION:Midweek is made for discovery. Enjoy a curated selection of wines offered by the bottle at half price.
X-ALT-DESC;FMTTYPE=text/html:Midweek is made for discovery. Enjoy a curated selection of wines offered by the bottle at half price.
LOCATION:The Bar
UID:e.839.58586
SEQUENCE:3
DTSTAMP:20260425T135448Z
URL:https://business.lakesregionchamber.org/events/details/wine-wednesdays-04-29-2026-58586
END:VEVENT

END:VCALENDAR
