BEGIN:VCALENDAR
VERSION:2.0
PRODID:-//ChamberMaster//Event Calendar 2.0//EN
METHOD:PUBLISH
X-PUBLISHED-TTL:P3D
REFRESH-INTERVAL:P3D
CALSCALE:GREGORIAN
BEGIN:VEVENT
DTSTART:20250111T180000Z
DTEND:20250111T200000Z
X-MICROSOFT-CDO-ALLDAYEVENT:FALSE
SUMMARY:Winter Tree ID
DESCRIPTION:Leaves are not the only way to identify trees and\, in fact \,winter lends itself to using bark\, buds\, fruit and plant architecture to identify woody plants. Join us as we amble through the woods at Prescott Farm to identify common New England trees and shrubs.\n\n\n\nSnowshoes or snow cleats available (no extra charge) to borrow or guests may bring their own.\n\n\n\nRecommended Ages: Adults\n\nPhysical Demand [4] = Activity includes around 1 mile of walking on trails with uneven terrain and hills\n\nCost: $15 (Non-Members)\; FREE for Members\n\n\n\nRegistration Link
X-ALT-DESC;FMTTYPE=text/html:Leaves are not the only way to identify trees and\, in fact \,winter lends itself to using bark\, buds\, fruit and plant architecture to identify woody plants. Join us as we amble through the woods at Prescott Farm to identify common New England trees and shrubs.<br />\n<br />\nSnowshoes or snow cleats available (no extra charge) to borrow or guests may bring their own.<br />\n<br />\nRecommended Ages: Adults<br />\nPhysical Demand [4] = Activity includes around 1 mile of walking on trails with uneven terrain and hills<br />\nCost: $15 (Non-Members)\; FREE for Members<br />\n<br />\n<a href="https://prescottfarm.org/service/public-programs/for-adults/january-march-2024-programs/"><span style="color:#FFFFFF"><span style="font-size:14px"><span style="background-color:#92c45e">Registration Link</span></span></span></a>
LOCATION:Prescott Farm Environmental Education Center 928 White Oaks Road Laconia\, NH 03246
UID:e.839.53125
SEQUENCE:3
DTSTAMP:20260420T084225Z
URL:https://business.lakesregionchamber.org/events/details/winter-tree-id-53125
END:VEVENT

END:VCALENDAR
